BEGIN:VCALENDAR
VERSION:2.0
PRODID:-//eventon.com NONSGML v1.0//EN
CALSCALE:GREGORIAN
METHOD:PUBLISH
BEGIN:VEVENT
UID:69e9dd601056f
DTSTAMP:20260423T085040Z
DTSTART:20251025T210000Z
DTEND:20251025T230000Z
LOCATION:
SUMMARY:Family Movie Matinee: Coco
DESCRIPTION:Satruday\,  October 25th\,  2:00pm Hood River Library Theate
 r Join us in the Hood River Library Theater for a family movie matinee. 
 We’ll provide popcorn and plenty of room to spread out and get cozy.\nhtt
 ps://hoodriverlibrary.org/events/family-movie-matinee-coco/
URL:https://hoodriverlibrary.org/events/family-movie-matinee-coco/
END:VEVENT
END:VCALENDAR