BEGIN:VCALENDAR
VERSION:2.0
PRODID:-//eventon.com NONSGML v1.0//EN
CALSCALE:GREGORIAN
METHOD:PUBLISH
BEGIN:VEVENT
UID:69ea4718674bd
DTSTAMP:20260423T162144Z
DTSTART:20250911T230000Z
DTEND:20250912T000000Z
LOCATION:
SUMMARY:Bookmobile Route: Wy'East Vista Apartments 1800 8th St. Hood River (Second Thursday of each month)
DESCRIPTION:The Hood River County Library District&#8217;s Bookmobile bring
 s the full library experience directly to your community! Whether you live 
 in a remote area\,  have mobility challenges\,  or simply can&#8217;t make 
 it to our physical branches\,  our mobile library ensures everyone has acce
 ss to literacy resources and lifelong learning opportunities. This[..]\nhtt
 ps://hoodriverlibrary.org/events/bookmobile-route-wyeast-vista-apartments-1
 800-8th-st-hood-river-first-thursday-of-each-month/
URL:https://hoodriverlibrary.org/events/bookmobile-route-wyeast-vista-apartments-1800-8th-st-hood-river-first-thursday-of-each-month/
END:VEVENT
END:VCALENDAR