BEGIN:VCALENDAR
VERSION:2.0
PRODID:-//eventon.com NONSGML v1.0//EN
CALSCALE:GREGORIAN
METHOD:PUBLISH
BEGIN:VEVENT
UID:69e7fcb67e99a
DTSTAMP:20260421T223950Z
DTSTART:20240725T003000Z
DTEND:20240725T065900Z
LOCATION:
SUMMARY:Messy Field Day/ Dia de Campo Desordenado
DESCRIPTION:Embrace the chaos during Messy Field day at the Library with mu
 ltiple craft stations and crazy activities! We suggest wearing clothes that
  can get dirty and/or wet. ¡Abraza el caos durante el día Messy Field en 
 la biblioteca con múltiples estaciones de manualidades y actividades locas
 ! Sugerimos usar ropa que[..]\nhttps://hoodriverlibrary.org/events/messy-fi
 eld-day-dia-de-campo-desordenado/
URL:https://hoodriverlibrary.org/events/messy-field-day-dia-de-campo-desordenado/
END:VEVENT
END:VCALENDAR