BEGIN:VCALENDAR
VERSION:2.0
PRODID:-//eventon.com NONSGML v1.0//EN
CALSCALE:GREGORIAN
METHOD:PUBLISH
BEGIN:VEVENT
UID:69e564097e182
DTSTAMP:20260419T232353Z
DTSTART:20240627T003000Z
DTEND:20240627T065900Z
LOCATION:
SUMMARY:Bubble Man/ El hombre burbuja [Hood River Middle School]
DESCRIPTION:Experience the mesmerizing artistry of the Bubble Man as he cra
 fts stunning creations out of bubbles while unraveling the captivating scie
 nce behind them! This event will be held in the Hood River Middle School Au
 ditorium. Disfruta del fascinante arte del Hombre Burbuja mientras crea aso
 mbrosas creaciones de burbujas y descubre[..]\nhttps://hoodriverlibrary.org
 /events/bubble-man-el-hombre-burbuja-hood-river-middle-school/
URL:https://hoodriverlibrary.org/events/bubble-man-el-hombre-burbuja-hood-river-middle-school/
END:VEVENT
END:VCALENDAR