BEGIN:VCALENDAR
VERSION:2.0
PRODID:-//eventon.com NONSGML v1.0//EN
CALSCALE:GREGORIAN
METHOD:PUBLISH
BEGIN:VEVENT
UID:69ed5e753fb20
DTSTAMP:20260426T003813Z
DTSTART:20230625T000000Z
DTEND:20230625T065000Z
LOCATION:
SUMMARY:Summer Starting Foam Party
DESCRIPTION:Summer silliness starts strong with a Teen Foam Party! Ice crea
 m\,  music\,  and lots of bubbles in the Library Garden\,  please wear swim
  gear or something that can get wet. Open to teens ages 12 to 18. ¡La aleg
 ría del verano empieza fuerte con una Fiesta de Espuma para Adolescentes![
 ..]\nhttps://hoodriverlibrary.org/events/summer-starting-foam-party/
URL:https://hoodriverlibrary.org/events/summer-starting-foam-party/
END:VEVENT
END:VCALENDAR