BEGIN:VCALENDAR
VERSION:2.0
PRODID:-//eventon.com NONSGML v1.0//EN
CALSCALE:GREGORIAN
METHOD:PUBLISH
BEGIN:VEVENT
UID:69e9dfe915a2a
DTSTAMP:20260423T090129Z
DTSTART:20230527T210000Z
DTEND:20230528T065000Z
LOCATION:
SUMMARY:Author Reading: Linda Meanus
DESCRIPTION:My Name is LaMoosh is the life story of Warm Springs Tribal Eld
 er Linda Meanus. She grew up with her grandma Flora Thompson and grandpa Ch
 ief Tommy Thompson near Celilo Falls\,  a mighty fishery on the Columbia th
 at was flooded in 1957 by the construction of The Dalles Dam. Linda[..]\nht
 tps://hoodriverlibrary.org/events/author-reading-linda-meanus/
URL:https://hoodriverlibrary.org/events/author-reading-linda-meanus/
END:VEVENT
END:VCALENDAR