BEGIN:VCALENDAR
VERSION:2.0
PRODID:-//eventon.com NONSGML v1.0//EN
CALSCALE:GREGORIAN
METHOD:PUBLISH
BEGIN:VEVENT
UID:69e7058d30bea
DTSTAMP:20260421T050517Z
DTSTART:20220501T210000Z
DTEND:20220502T065000Z
LOCATION:
SUMMARY:Public presentation: Cartooning in a Firestorm by author Brian Fies
DESCRIPTION:Location TBA\nhttps://hoodriverlibrary.org/events/public-presen
 tation-cartooning-in-a-firestorm-by-author-brian-fies/
URL:https://hoodriverlibrary.org/events/public-presentation-cartooning-in-a-firestorm-by-author-brian-fies/
END:VEVENT
END:VCALENDAR