BEGIN:VCALENDAR
VERSION:2.0
PRODID:-//eventon.com NONSGML v1.0//EN
CALSCALE:GREGORIAN
METHOD:PUBLISH
BEGIN:VEVENT
UID:69e4ca2a6277c
DTSTAMP:20260419T122722Z
DTSTART:20220327T010000Z
DTEND:20220327T065000Z
LOCATION:Hood River Library 502 State St
SUMMARY:Late Night Legos
DESCRIPTION:A closed library\,  lots of building blocks\,  and projects to 
 choose from. Teens can hang out\,  help build\,  listen to music and more. 
 Pizza\,  snacks\,  and Legos will be provided.\nhttps://hoodriverlibrary.or
 g/events/late-night-legos/
URL:https://hoodriverlibrary.org/events/late-night-legos/
END:VEVENT
END:VCALENDAR