BEGIN:VCALENDAR
VERSION:2.0
PRODID:-//eventon.com NONSGML v1.0//EN
CALSCALE:GREGORIAN
METHOD:PUBLISH
BEGIN:VEVENT
UID:69e4c9cfa3e04
DTSTAMP:20260419T122551Z
DTSTART:20220312T190000Z
DTEND:20220312T203000Z
LOCATION:Hood River Library 502 State St
SUMMARY:Upcycle Mosaics for teens
DESCRIPTION:Teens can take part in creating an art display for the library 
 made out of old technology\,  paints\,  various other craft supplies. &nbsp
 ;\nhttps://hoodriverlibrary.org/events/upcycle-mosaics-for-teens/
URL:https://hoodriverlibrary.org/events/upcycle-mosaics-for-teens/
END:VEVENT
END:VCALENDAR