BEGIN:VCALENDAR
VERSION:2.0
PRODID:-//eventon.com NONSGML v1.0//EN
CALSCALE:GREGORIAN
METHOD:PUBLISH
BEGIN:VEVENT
UID:69e4cadf783de
DTSTAMP:20260419T123023Z
DTSTART:20220305T020000Z
DTEND:20220305T075000Z
LOCATION:
SUMMARY:Teen Movie Night
DESCRIPTION:Movies\,  mayhem\,  and mystery on hand for the Teen March Movi
 e night. Well\,  definitely a movie to watch at the library after hours. 
 Vote for which movie we watch by March 1st. ￼\nhttps://hoodriverlibrary.
 org/events/teen-movie-night/
URL:https://hoodriverlibrary.org/events/teen-movie-night/
END:VEVENT
END:VCALENDAR